BEGIN:VCALENDAR
VERSION:2.0
PRODID:-//Lake Geneva Lodge - ECPv6.15.17.1//NONSGML v1.0//EN
CALSCALE:GREGORIAN
METHOD:PUBLISH
X-ORIGINAL-URL:https://genevalakelodge.com
X-WR-CALDESC:Events for Lake Geneva Lodge
REFRESH-INTERVAL;VALUE=DURATION:PT1H
X-Robots-Tag:noindex
X-PUBLISHED-TTL:PT1H
BEGIN:VTIMEZONE
TZID:UTC
BEGIN:STANDARD
TZOFFSETFROM:+0000
TZOFFSETTO:+0000
TZNAME:UTC
DTSTART:20230101T000000
END:STANDARD
END:VTIMEZONE
BEGIN:VEVENT
DTSTART;TZID=UTC:20240823T190000
DTEND;TZID=UTC:20240823T190000
DTSTAMP:20260420T090839
CREATED:20240823T232132Z
LAST-MODIFIED:20240823T234845Z
UID:10000056-1724439600-1724439600@genevalakelodge.com
SUMMARY:Elvis Presley Tribute with Jimmy Holmes
DESCRIPTION:Coming to Geneva Stage: Jimmy Holmes is an award-winning World Champion Elvis Tribute Artist. He has traveled across the USA and abroad showcasing his authentic tribute to the King. He has taken the Elvis industry by storm with his attention to detail and show-stopping performances leading to offers from promoters worldwide. With “The All Night Long Show Band” and Jimmy\, this is a show you won’t want to miss. Thank you for reading this post\, don't forget to subscribe!\nPurchase Tickets HERE!
URL:https://genevalakelodge.com/event/elvis-presley-tribute-with-jimmy-holmes/
LOCATION:Geneva Stage\, 244 Broad St\, Lake Geneva\, WI\, 53147\, United States
ATTACH;FMTTYPE=image/jpeg:https://genevalakelodge.com/wp-content/uploads/2024/08/15254_701x397.54891719518958_6A851E99-882E-45B6-B2F960A860F9C2BA_0d197500-7a08-4f1e-ac36b99064efc028-1.jpg
END:VEVENT
END:VCALENDAR