BEGIN:VCALENDAR
VERSION:2.0
PRODID:-//Lake Geneva Lodge - ECPv6.15.17.1//NONSGML v1.0//EN
CALSCALE:GREGORIAN
METHOD:PUBLISH
X-ORIGINAL-URL:https://genevalakelodge.com
X-WR-CALDESC:Events for Lake Geneva Lodge
REFRESH-INTERVAL;VALUE=DURATION:PT1H
X-Robots-Tag:noindex
X-PUBLISHED-TTL:PT1H
BEGIN:VTIMEZONE
TZID:UTC
BEGIN:STANDARD
TZOFFSETFROM:+0000
TZOFFSETTO:+0000
TZNAME:UTC
DTSTART:20250101T000000
END:STANDARD
END:VTIMEZONE
BEGIN:VEVENT
DTSTART;TZID=UTC:20260507T140000
DTEND;TZID=UTC:20260507T180000
DTSTAMP:20260421T031942
CREATED:20241112T021024Z
LAST-MODIFIED:20241112T021024Z
UID:10002913-1778162400-1778176800@genevalakelodge.com
SUMMARY:Happy Hour
DESCRIPTION:Join us for Happy Hour\, Monday through Friday\, 2:00pm – 6:00pm. $1.00 domestic\, import\, and rail. Thank you for reading this post\, don't forget to subscribe!
URL:https://genevalakelodge.com/event/happy-hour/2026-05-07/
LOCATION:The Thirsty Parrot\, W3731 Club House Drive\, Lake Geneva\, WI\, 53147\, United States
ATTACH;FMTTYPE=image/jpeg:https://genevalakelodge.com/wp-content/uploads/2024/11/09-14-2023_64DE0C9A-B386-4F85-9FB250DF22E2B954_8e89ab78-ed6d-49dd-a3ade1916e35933d-min.jpg
ORGANIZER;CN="The Thirsty Parrot":MAILTO:legendsfoodandspirits.info@gmail.com
END:VEVENT
BEGIN:VEVENT
DTSTART;TZID=UTC:20260508T140000
DTEND;TZID=UTC:20260508T180000
DTSTAMP:20260421T031942
CREATED:20241112T021024Z
LAST-MODIFIED:20241112T021024Z
UID:10002914-1778248800-1778263200@genevalakelodge.com
SUMMARY:Happy Hour
DESCRIPTION:Join us for Happy Hour\, Monday through Friday\, 2:00pm – 6:00pm. $1.00 domestic\, import\, and rail. Thank you for reading this post\, don't forget to subscribe!
URL:https://genevalakelodge.com/event/happy-hour/2026-05-08/
LOCATION:The Thirsty Parrot\, W3731 Club House Drive\, Lake Geneva\, WI\, 53147\, United States
ATTACH;FMTTYPE=image/jpeg:https://genevalakelodge.com/wp-content/uploads/2024/11/09-14-2023_64DE0C9A-B386-4F85-9FB250DF22E2B954_8e89ab78-ed6d-49dd-a3ade1916e35933d-min.jpg
ORGANIZER;CN="The Thirsty Parrot":MAILTO:legendsfoodandspirits.info@gmail.com
END:VEVENT
BEGIN:VEVENT
DTSTART;TZID=UTC:20260511T140000
DTEND;TZID=UTC:20260511T180000
DTSTAMP:20260421T031942
CREATED:20241112T021024Z
LAST-MODIFIED:20241112T021024Z
UID:10002915-1778508000-1778522400@genevalakelodge.com
SUMMARY:Happy Hour
DESCRIPTION:Join us for Happy Hour\, Monday through Friday\, 2:00pm – 6:00pm. $1.00 domestic\, import\, and rail. Thank you for reading this post\, don't forget to subscribe!
URL:https://genevalakelodge.com/event/happy-hour/2026-05-11/
LOCATION:The Thirsty Parrot\, W3731 Club House Drive\, Lake Geneva\, WI\, 53147\, United States
ATTACH;FMTTYPE=image/jpeg:https://genevalakelodge.com/wp-content/uploads/2024/11/09-14-2023_64DE0C9A-B386-4F85-9FB250DF22E2B954_8e89ab78-ed6d-49dd-a3ade1916e35933d-min.jpg
ORGANIZER;CN="The Thirsty Parrot":MAILTO:legendsfoodandspirits.info@gmail.com
END:VEVENT
BEGIN:VEVENT
DTSTART;TZID=UTC:20260512T140000
DTEND;TZID=UTC:20260512T180000
DTSTAMP:20260421T031942
CREATED:20241112T021024Z
LAST-MODIFIED:20241112T021024Z
UID:10002916-1778594400-1778608800@genevalakelodge.com
SUMMARY:Happy Hour
DESCRIPTION:Join us for Happy Hour\, Monday through Friday\, 2:00pm – 6:00pm. $1.00 domestic\, import\, and rail. Thank you for reading this post\, don't forget to subscribe!
URL:https://genevalakelodge.com/event/happy-hour/2026-05-12/
LOCATION:The Thirsty Parrot\, W3731 Club House Drive\, Lake Geneva\, WI\, 53147\, United States
ATTACH;FMTTYPE=image/jpeg:https://genevalakelodge.com/wp-content/uploads/2024/11/09-14-2023_64DE0C9A-B386-4F85-9FB250DF22E2B954_8e89ab78-ed6d-49dd-a3ade1916e35933d-min.jpg
ORGANIZER;CN="The Thirsty Parrot":MAILTO:legendsfoodandspirits.info@gmail.com
END:VEVENT
BEGIN:VEVENT
DTSTART;TZID=UTC:20260513T140000
DTEND;TZID=UTC:20260513T180000
DTSTAMP:20260421T031942
CREATED:20241112T021024Z
LAST-MODIFIED:20241112T021024Z
UID:10002917-1778680800-1778695200@genevalakelodge.com
SUMMARY:Happy Hour
DESCRIPTION:Join us for Happy Hour\, Monday through Friday\, 2:00pm – 6:00pm. $1.00 domestic\, import\, and rail. Thank you for reading this post\, don't forget to subscribe!
URL:https://genevalakelodge.com/event/happy-hour/2026-05-13/
LOCATION:The Thirsty Parrot\, W3731 Club House Drive\, Lake Geneva\, WI\, 53147\, United States
ATTACH;FMTTYPE=image/jpeg:https://genevalakelodge.com/wp-content/uploads/2024/11/09-14-2023_64DE0C9A-B386-4F85-9FB250DF22E2B954_8e89ab78-ed6d-49dd-a3ade1916e35933d-min.jpg
ORGANIZER;CN="The Thirsty Parrot":MAILTO:legendsfoodandspirits.info@gmail.com
END:VEVENT
BEGIN:VEVENT
DTSTART;TZID=UTC:20260514T140000
DTEND;TZID=UTC:20260514T180000
DTSTAMP:20260421T031942
CREATED:20241112T021024Z
LAST-MODIFIED:20241112T021024Z
UID:10002918-1778767200-1778781600@genevalakelodge.com
SUMMARY:Happy Hour
DESCRIPTION:Join us for Happy Hour\, Monday through Friday\, 2:00pm – 6:00pm. $1.00 domestic\, import\, and rail. Thank you for reading this post\, don't forget to subscribe!
URL:https://genevalakelodge.com/event/happy-hour/2026-05-14/
LOCATION:The Thirsty Parrot\, W3731 Club House Drive\, Lake Geneva\, WI\, 53147\, United States
ATTACH;FMTTYPE=image/jpeg:https://genevalakelodge.com/wp-content/uploads/2024/11/09-14-2023_64DE0C9A-B386-4F85-9FB250DF22E2B954_8e89ab78-ed6d-49dd-a3ade1916e35933d-min.jpg
ORGANIZER;CN="The Thirsty Parrot":MAILTO:legendsfoodandspirits.info@gmail.com
END:VEVENT
BEGIN:VEVENT
DTSTART;TZID=UTC:20260515T140000
DTEND;TZID=UTC:20260515T180000
DTSTAMP:20260421T031942
CREATED:20241112T021024Z
LAST-MODIFIED:20241112T021024Z
UID:10002919-1778853600-1778868000@genevalakelodge.com
SUMMARY:Happy Hour
DESCRIPTION:Join us for Happy Hour\, Monday through Friday\, 2:00pm – 6:00pm. $1.00 domestic\, import\, and rail. Thank you for reading this post\, don't forget to subscribe!
URL:https://genevalakelodge.com/event/happy-hour/2026-05-15/
LOCATION:The Thirsty Parrot\, W3731 Club House Drive\, Lake Geneva\, WI\, 53147\, United States
ATTACH;FMTTYPE=image/jpeg:https://genevalakelodge.com/wp-content/uploads/2024/11/09-14-2023_64DE0C9A-B386-4F85-9FB250DF22E2B954_8e89ab78-ed6d-49dd-a3ade1916e35933d-min.jpg
ORGANIZER;CN="The Thirsty Parrot":MAILTO:legendsfoodandspirits.info@gmail.com
END:VEVENT
BEGIN:VEVENT
DTSTART;TZID=UTC:20260518T140000
DTEND;TZID=UTC:20260518T180000
DTSTAMP:20260421T031942
CREATED:20241112T021024Z
LAST-MODIFIED:20241112T021024Z
UID:10002920-1779112800-1779127200@genevalakelodge.com
SUMMARY:Happy Hour
DESCRIPTION:Join us for Happy Hour\, Monday through Friday\, 2:00pm – 6:00pm. $1.00 domestic\, import\, and rail. Thank you for reading this post\, don't forget to subscribe!
URL:https://genevalakelodge.com/event/happy-hour/2026-05-18/
LOCATION:The Thirsty Parrot\, W3731 Club House Drive\, Lake Geneva\, WI\, 53147\, United States
ATTACH;FMTTYPE=image/jpeg:https://genevalakelodge.com/wp-content/uploads/2024/11/09-14-2023_64DE0C9A-B386-4F85-9FB250DF22E2B954_8e89ab78-ed6d-49dd-a3ade1916e35933d-min.jpg
ORGANIZER;CN="The Thirsty Parrot":MAILTO:legendsfoodandspirits.info@gmail.com
END:VEVENT
BEGIN:VEVENT
DTSTART;TZID=UTC:20260519T140000
DTEND;TZID=UTC:20260519T180000
DTSTAMP:20260421T031942
CREATED:20241112T021024Z
LAST-MODIFIED:20241112T021024Z
UID:10002921-1779199200-1779213600@genevalakelodge.com
SUMMARY:Happy Hour
DESCRIPTION:Join us for Happy Hour\, Monday through Friday\, 2:00pm – 6:00pm. $1.00 domestic\, import\, and rail. Thank you for reading this post\, don't forget to subscribe!
URL:https://genevalakelodge.com/event/happy-hour/2026-05-19/
LOCATION:The Thirsty Parrot\, W3731 Club House Drive\, Lake Geneva\, WI\, 53147\, United States
ATTACH;FMTTYPE=image/jpeg:https://genevalakelodge.com/wp-content/uploads/2024/11/09-14-2023_64DE0C9A-B386-4F85-9FB250DF22E2B954_8e89ab78-ed6d-49dd-a3ade1916e35933d-min.jpg
ORGANIZER;CN="The Thirsty Parrot":MAILTO:legendsfoodandspirits.info@gmail.com
END:VEVENT
BEGIN:VEVENT
DTSTART;TZID=UTC:20260520T140000
DTEND;TZID=UTC:20260520T180000
DTSTAMP:20260421T031942
CREATED:20241112T021024Z
LAST-MODIFIED:20241112T021024Z
UID:10002922-1779285600-1779300000@genevalakelodge.com
SUMMARY:Happy Hour
DESCRIPTION:Join us for Happy Hour\, Monday through Friday\, 2:00pm – 6:00pm. $1.00 domestic\, import\, and rail. Thank you for reading this post\, don't forget to subscribe!
URL:https://genevalakelodge.com/event/happy-hour/2026-05-20/
LOCATION:The Thirsty Parrot\, W3731 Club House Drive\, Lake Geneva\, WI\, 53147\, United States
ATTACH;FMTTYPE=image/jpeg:https://genevalakelodge.com/wp-content/uploads/2024/11/09-14-2023_64DE0C9A-B386-4F85-9FB250DF22E2B954_8e89ab78-ed6d-49dd-a3ade1916e35933d-min.jpg
ORGANIZER;CN="The Thirsty Parrot":MAILTO:legendsfoodandspirits.info@gmail.com
END:VEVENT
BEGIN:VEVENT
DTSTART;TZID=UTC:20260521T140000
DTEND;TZID=UTC:20260521T180000
DTSTAMP:20260421T031942
CREATED:20241112T021024Z
LAST-MODIFIED:20241112T021024Z
UID:10002923-1779372000-1779386400@genevalakelodge.com
SUMMARY:Happy Hour
DESCRIPTION:Join us for Happy Hour\, Monday through Friday\, 2:00pm – 6:00pm. $1.00 domestic\, import\, and rail. Thank you for reading this post\, don't forget to subscribe!
URL:https://genevalakelodge.com/event/happy-hour/2026-05-21/
LOCATION:The Thirsty Parrot\, W3731 Club House Drive\, Lake Geneva\, WI\, 53147\, United States
ATTACH;FMTTYPE=image/jpeg:https://genevalakelodge.com/wp-content/uploads/2024/11/09-14-2023_64DE0C9A-B386-4F85-9FB250DF22E2B954_8e89ab78-ed6d-49dd-a3ade1916e35933d-min.jpg
ORGANIZER;CN="The Thirsty Parrot":MAILTO:legendsfoodandspirits.info@gmail.com
END:VEVENT
BEGIN:VEVENT
DTSTART;TZID=UTC:20260522T140000
DTEND;TZID=UTC:20260522T180000
DTSTAMP:20260421T031942
CREATED:20241112T021024Z
LAST-MODIFIED:20241112T021024Z
UID:10002924-1779458400-1779472800@genevalakelodge.com
SUMMARY:Happy Hour
DESCRIPTION:Join us for Happy Hour\, Monday through Friday\, 2:00pm – 6:00pm. $1.00 domestic\, import\, and rail. Thank you for reading this post\, don't forget to subscribe!
URL:https://genevalakelodge.com/event/happy-hour/2026-05-22/
LOCATION:The Thirsty Parrot\, W3731 Club House Drive\, Lake Geneva\, WI\, 53147\, United States
ATTACH;FMTTYPE=image/jpeg:https://genevalakelodge.com/wp-content/uploads/2024/11/09-14-2023_64DE0C9A-B386-4F85-9FB250DF22E2B954_8e89ab78-ed6d-49dd-a3ade1916e35933d-min.jpg
ORGANIZER;CN="The Thirsty Parrot":MAILTO:legendsfoodandspirits.info@gmail.com
END:VEVENT
BEGIN:VEVENT
DTSTART;TZID=UTC:20260525T140000
DTEND;TZID=UTC:20260525T180000
DTSTAMP:20260421T031942
CREATED:20241112T021024Z
LAST-MODIFIED:20241112T021024Z
UID:10002925-1779717600-1779732000@genevalakelodge.com
SUMMARY:Happy Hour
DESCRIPTION:Join us for Happy Hour\, Monday through Friday\, 2:00pm – 6:00pm. $1.00 domestic\, import\, and rail. Thank you for reading this post\, don't forget to subscribe!
URL:https://genevalakelodge.com/event/happy-hour/2026-05-25/
LOCATION:The Thirsty Parrot\, W3731 Club House Drive\, Lake Geneva\, WI\, 53147\, United States
ATTACH;FMTTYPE=image/jpeg:https://genevalakelodge.com/wp-content/uploads/2024/11/09-14-2023_64DE0C9A-B386-4F85-9FB250DF22E2B954_8e89ab78-ed6d-49dd-a3ade1916e35933d-min.jpg
ORGANIZER;CN="The Thirsty Parrot":MAILTO:legendsfoodandspirits.info@gmail.com
END:VEVENT
BEGIN:VEVENT
DTSTART;TZID=UTC:20260526T140000
DTEND;TZID=UTC:20260526T180000
DTSTAMP:20260421T031942
CREATED:20241112T021024Z
LAST-MODIFIED:20241112T021024Z
UID:10002926-1779804000-1779818400@genevalakelodge.com
SUMMARY:Happy Hour
DESCRIPTION:Join us for Happy Hour\, Monday through Friday\, 2:00pm – 6:00pm. $1.00 domestic\, import\, and rail. Thank you for reading this post\, don't forget to subscribe!
URL:https://genevalakelodge.com/event/happy-hour/2026-05-26/
LOCATION:The Thirsty Parrot\, W3731 Club House Drive\, Lake Geneva\, WI\, 53147\, United States
ATTACH;FMTTYPE=image/jpeg:https://genevalakelodge.com/wp-content/uploads/2024/11/09-14-2023_64DE0C9A-B386-4F85-9FB250DF22E2B954_8e89ab78-ed6d-49dd-a3ade1916e35933d-min.jpg
ORGANIZER;CN="The Thirsty Parrot":MAILTO:legendsfoodandspirits.info@gmail.com
END:VEVENT
BEGIN:VEVENT
DTSTART;TZID=UTC:20260527T140000
DTEND;TZID=UTC:20260527T180000
DTSTAMP:20260421T031942
CREATED:20241112T021024Z
LAST-MODIFIED:20241112T021024Z
UID:10002927-1779890400-1779904800@genevalakelodge.com
SUMMARY:Happy Hour
DESCRIPTION:Join us for Happy Hour\, Monday through Friday\, 2:00pm – 6:00pm. $1.00 domestic\, import\, and rail. Thank you for reading this post\, don't forget to subscribe!
URL:https://genevalakelodge.com/event/happy-hour/2026-05-27/
LOCATION:The Thirsty Parrot\, W3731 Club House Drive\, Lake Geneva\, WI\, 53147\, United States
ATTACH;FMTTYPE=image/jpeg:https://genevalakelodge.com/wp-content/uploads/2024/11/09-14-2023_64DE0C9A-B386-4F85-9FB250DF22E2B954_8e89ab78-ed6d-49dd-a3ade1916e35933d-min.jpg
ORGANIZER;CN="The Thirsty Parrot":MAILTO:legendsfoodandspirits.info@gmail.com
END:VEVENT
BEGIN:VEVENT
DTSTART;TZID=UTC:20260528T140000
DTEND;TZID=UTC:20260528T180000
DTSTAMP:20260421T031942
CREATED:20241112T021024Z
LAST-MODIFIED:20241112T021024Z
UID:10002928-1779976800-1779991200@genevalakelodge.com
SUMMARY:Happy Hour
DESCRIPTION:Join us for Happy Hour\, Monday through Friday\, 2:00pm – 6:00pm. $1.00 domestic\, import\, and rail. Thank you for reading this post\, don't forget to subscribe!
URL:https://genevalakelodge.com/event/happy-hour/2026-05-28/
LOCATION:The Thirsty Parrot\, W3731 Club House Drive\, Lake Geneva\, WI\, 53147\, United States
ATTACH;FMTTYPE=image/jpeg:https://genevalakelodge.com/wp-content/uploads/2024/11/09-14-2023_64DE0C9A-B386-4F85-9FB250DF22E2B954_8e89ab78-ed6d-49dd-a3ade1916e35933d-min.jpg
ORGANIZER;CN="The Thirsty Parrot":MAILTO:legendsfoodandspirits.info@gmail.com
END:VEVENT
BEGIN:VEVENT
DTSTART;TZID=UTC:20260529T140000
DTEND;TZID=UTC:20260529T180000
DTSTAMP:20260421T031942
CREATED:20241112T021024Z
LAST-MODIFIED:20241112T021024Z
UID:10002929-1780063200-1780077600@genevalakelodge.com
SUMMARY:Happy Hour
DESCRIPTION:Join us for Happy Hour\, Monday through Friday\, 2:00pm – 6:00pm. $1.00 domestic\, import\, and rail. Thank you for reading this post\, don't forget to subscribe!
URL:https://genevalakelodge.com/event/happy-hour/2026-05-29/
LOCATION:The Thirsty Parrot\, W3731 Club House Drive\, Lake Geneva\, WI\, 53147\, United States
ATTACH;FMTTYPE=image/jpeg:https://genevalakelodge.com/wp-content/uploads/2024/11/09-14-2023_64DE0C9A-B386-4F85-9FB250DF22E2B954_8e89ab78-ed6d-49dd-a3ade1916e35933d-min.jpg
ORGANIZER;CN="The Thirsty Parrot":MAILTO:legendsfoodandspirits.info@gmail.com
END:VEVENT
BEGIN:VEVENT
DTSTART;TZID=UTC:20260601T140000
DTEND;TZID=UTC:20260601T180000
DTSTAMP:20260421T031942
CREATED:20241112T021024Z
LAST-MODIFIED:20241112T021024Z
UID:10002930-1780322400-1780336800@genevalakelodge.com
SUMMARY:Happy Hour
DESCRIPTION:Join us for Happy Hour\, Monday through Friday\, 2:00pm – 6:00pm. $1.00 domestic\, import\, and rail. Thank you for reading this post\, don't forget to subscribe!
URL:https://genevalakelodge.com/event/happy-hour/2026-06-01/
LOCATION:The Thirsty Parrot\, W3731 Club House Drive\, Lake Geneva\, WI\, 53147\, United States
ATTACH;FMTTYPE=image/jpeg:https://genevalakelodge.com/wp-content/uploads/2024/11/09-14-2023_64DE0C9A-B386-4F85-9FB250DF22E2B954_8e89ab78-ed6d-49dd-a3ade1916e35933d-min.jpg
ORGANIZER;CN="The Thirsty Parrot":MAILTO:legendsfoodandspirits.info@gmail.com
END:VEVENT
BEGIN:VEVENT
DTSTART;TZID=UTC:20260602T140000
DTEND;TZID=UTC:20260602T180000
DTSTAMP:20260421T031942
CREATED:20241112T021024Z
LAST-MODIFIED:20241112T021024Z
UID:10002931-1780408800-1780423200@genevalakelodge.com
SUMMARY:Happy Hour
DESCRIPTION:Join us for Happy Hour\, Monday through Friday\, 2:00pm – 6:00pm. $1.00 domestic\, import\, and rail. Thank you for reading this post\, don't forget to subscribe!
URL:https://genevalakelodge.com/event/happy-hour/2026-06-02/
LOCATION:The Thirsty Parrot\, W3731 Club House Drive\, Lake Geneva\, WI\, 53147\, United States
ATTACH;FMTTYPE=image/jpeg:https://genevalakelodge.com/wp-content/uploads/2024/11/09-14-2023_64DE0C9A-B386-4F85-9FB250DF22E2B954_8e89ab78-ed6d-49dd-a3ade1916e35933d-min.jpg
ORGANIZER;CN="The Thirsty Parrot":MAILTO:legendsfoodandspirits.info@gmail.com
END:VEVENT
BEGIN:VEVENT
DTSTART;TZID=UTC:20260603T140000
DTEND;TZID=UTC:20260603T180000
DTSTAMP:20260421T031942
CREATED:20241112T021024Z
LAST-MODIFIED:20241112T021024Z
UID:10002932-1780495200-1780509600@genevalakelodge.com
SUMMARY:Happy Hour
DESCRIPTION:Join us for Happy Hour\, Monday through Friday\, 2:00pm – 6:00pm. $1.00 domestic\, import\, and rail. Thank you for reading this post\, don't forget to subscribe!
URL:https://genevalakelodge.com/event/happy-hour/2026-06-03/
LOCATION:The Thirsty Parrot\, W3731 Club House Drive\, Lake Geneva\, WI\, 53147\, United States
ATTACH;FMTTYPE=image/jpeg:https://genevalakelodge.com/wp-content/uploads/2024/11/09-14-2023_64DE0C9A-B386-4F85-9FB250DF22E2B954_8e89ab78-ed6d-49dd-a3ade1916e35933d-min.jpg
ORGANIZER;CN="The Thirsty Parrot":MAILTO:legendsfoodandspirits.info@gmail.com
END:VEVENT
BEGIN:VEVENT
DTSTART;TZID=UTC:20260604T140000
DTEND;TZID=UTC:20260604T180000
DTSTAMP:20260421T031942
CREATED:20241112T021024Z
LAST-MODIFIED:20241112T021024Z
UID:10002933-1780581600-1780596000@genevalakelodge.com
SUMMARY:Happy Hour
DESCRIPTION:Join us for Happy Hour\, Monday through Friday\, 2:00pm – 6:00pm. $1.00 domestic\, import\, and rail. Thank you for reading this post\, don't forget to subscribe!
URL:https://genevalakelodge.com/event/happy-hour/2026-06-04/
LOCATION:The Thirsty Parrot\, W3731 Club House Drive\, Lake Geneva\, WI\, 53147\, United States
ATTACH;FMTTYPE=image/jpeg:https://genevalakelodge.com/wp-content/uploads/2024/11/09-14-2023_64DE0C9A-B386-4F85-9FB250DF22E2B954_8e89ab78-ed6d-49dd-a3ade1916e35933d-min.jpg
ORGANIZER;CN="The Thirsty Parrot":MAILTO:legendsfoodandspirits.info@gmail.com
END:VEVENT
BEGIN:VEVENT
DTSTART;TZID=UTC:20260605T140000
DTEND;TZID=UTC:20260605T180000
DTSTAMP:20260421T031942
CREATED:20241112T021024Z
LAST-MODIFIED:20241112T021024Z
UID:10002934-1780668000-1780682400@genevalakelodge.com
SUMMARY:Happy Hour
DESCRIPTION:Join us for Happy Hour\, Monday through Friday\, 2:00pm – 6:00pm. $1.00 domestic\, import\, and rail. Thank you for reading this post\, don't forget to subscribe!
URL:https://genevalakelodge.com/event/happy-hour/2026-06-05/
LOCATION:The Thirsty Parrot\, W3731 Club House Drive\, Lake Geneva\, WI\, 53147\, United States
ATTACH;FMTTYPE=image/jpeg:https://genevalakelodge.com/wp-content/uploads/2024/11/09-14-2023_64DE0C9A-B386-4F85-9FB250DF22E2B954_8e89ab78-ed6d-49dd-a3ade1916e35933d-min.jpg
ORGANIZER;CN="The Thirsty Parrot":MAILTO:legendsfoodandspirits.info@gmail.com
END:VEVENT
BEGIN:VEVENT
DTSTART;TZID=UTC:20260608T140000
DTEND;TZID=UTC:20260608T180000
DTSTAMP:20260421T031942
CREATED:20241112T021024Z
LAST-MODIFIED:20241112T021024Z
UID:10002935-1780927200-1780941600@genevalakelodge.com
SUMMARY:Happy Hour
DESCRIPTION:Join us for Happy Hour\, Monday through Friday\, 2:00pm – 6:00pm. $1.00 domestic\, import\, and rail. Thank you for reading this post\, don't forget to subscribe!
URL:https://genevalakelodge.com/event/happy-hour/2026-06-08/
LOCATION:The Thirsty Parrot\, W3731 Club House Drive\, Lake Geneva\, WI\, 53147\, United States
ATTACH;FMTTYPE=image/jpeg:https://genevalakelodge.com/wp-content/uploads/2024/11/09-14-2023_64DE0C9A-B386-4F85-9FB250DF22E2B954_8e89ab78-ed6d-49dd-a3ade1916e35933d-min.jpg
ORGANIZER;CN="The Thirsty Parrot":MAILTO:legendsfoodandspirits.info@gmail.com
END:VEVENT
BEGIN:VEVENT
DTSTART;TZID=UTC:20260609T140000
DTEND;TZID=UTC:20260609T180000
DTSTAMP:20260421T031942
CREATED:20241112T021024Z
LAST-MODIFIED:20241112T021024Z
UID:10002936-1781013600-1781028000@genevalakelodge.com
SUMMARY:Happy Hour
DESCRIPTION:Join us for Happy Hour\, Monday through Friday\, 2:00pm – 6:00pm. $1.00 domestic\, import\, and rail. Thank you for reading this post\, don't forget to subscribe!
URL:https://genevalakelodge.com/event/happy-hour/2026-06-09/
LOCATION:The Thirsty Parrot\, W3731 Club House Drive\, Lake Geneva\, WI\, 53147\, United States
ATTACH;FMTTYPE=image/jpeg:https://genevalakelodge.com/wp-content/uploads/2024/11/09-14-2023_64DE0C9A-B386-4F85-9FB250DF22E2B954_8e89ab78-ed6d-49dd-a3ade1916e35933d-min.jpg
ORGANIZER;CN="The Thirsty Parrot":MAILTO:legendsfoodandspirits.info@gmail.com
END:VEVENT
BEGIN:VEVENT
DTSTART;TZID=UTC:20260610T140000
DTEND;TZID=UTC:20260610T180000
DTSTAMP:20260421T031942
CREATED:20241112T021024Z
LAST-MODIFIED:20241112T021024Z
UID:10002937-1781100000-1781114400@genevalakelodge.com
SUMMARY:Happy Hour
DESCRIPTION:Join us for Happy Hour\, Monday through Friday\, 2:00pm – 6:00pm. $1.00 domestic\, import\, and rail. Thank you for reading this post\, don't forget to subscribe!
URL:https://genevalakelodge.com/event/happy-hour/2026-06-10/
LOCATION:The Thirsty Parrot\, W3731 Club House Drive\, Lake Geneva\, WI\, 53147\, United States
ATTACH;FMTTYPE=image/jpeg:https://genevalakelodge.com/wp-content/uploads/2024/11/09-14-2023_64DE0C9A-B386-4F85-9FB250DF22E2B954_8e89ab78-ed6d-49dd-a3ade1916e35933d-min.jpg
ORGANIZER;CN="The Thirsty Parrot":MAILTO:legendsfoodandspirits.info@gmail.com
END:VEVENT
BEGIN:VEVENT
DTSTART;TZID=UTC:20260611T140000
DTEND;TZID=UTC:20260611T180000
DTSTAMP:20260421T031942
CREATED:20241112T021024Z
LAST-MODIFIED:20241112T021024Z
UID:10002938-1781186400-1781200800@genevalakelodge.com
SUMMARY:Happy Hour
DESCRIPTION:Join us for Happy Hour\, Monday through Friday\, 2:00pm – 6:00pm. $1.00 domestic\, import\, and rail. Thank you for reading this post\, don't forget to subscribe!
URL:https://genevalakelodge.com/event/happy-hour/2026-06-11/
LOCATION:The Thirsty Parrot\, W3731 Club House Drive\, Lake Geneva\, WI\, 53147\, United States
ATTACH;FMTTYPE=image/jpeg:https://genevalakelodge.com/wp-content/uploads/2024/11/09-14-2023_64DE0C9A-B386-4F85-9FB250DF22E2B954_8e89ab78-ed6d-49dd-a3ade1916e35933d-min.jpg
ORGANIZER;CN="The Thirsty Parrot":MAILTO:legendsfoodandspirits.info@gmail.com
END:VEVENT
BEGIN:VEVENT
DTSTART;TZID=UTC:20260612T140000
DTEND;TZID=UTC:20260612T180000
DTSTAMP:20260421T031942
CREATED:20241112T021024Z
LAST-MODIFIED:20241112T021024Z
UID:10002939-1781272800-1781287200@genevalakelodge.com
SUMMARY:Happy Hour
DESCRIPTION:Join us for Happy Hour\, Monday through Friday\, 2:00pm – 6:00pm. $1.00 domestic\, import\, and rail. Thank you for reading this post\, don't forget to subscribe!
URL:https://genevalakelodge.com/event/happy-hour/2026-06-12/
LOCATION:The Thirsty Parrot\, W3731 Club House Drive\, Lake Geneva\, WI\, 53147\, United States
ATTACH;FMTTYPE=image/jpeg:https://genevalakelodge.com/wp-content/uploads/2024/11/09-14-2023_64DE0C9A-B386-4F85-9FB250DF22E2B954_8e89ab78-ed6d-49dd-a3ade1916e35933d-min.jpg
ORGANIZER;CN="The Thirsty Parrot":MAILTO:legendsfoodandspirits.info@gmail.com
END:VEVENT
BEGIN:VEVENT
DTSTART;TZID=UTC:20260615T140000
DTEND;TZID=UTC:20260615T180000
DTSTAMP:20260421T031942
CREATED:20241112T021024Z
LAST-MODIFIED:20241112T021024Z
UID:10002940-1781532000-1781546400@genevalakelodge.com
SUMMARY:Happy Hour
DESCRIPTION:Join us for Happy Hour\, Monday through Friday\, 2:00pm – 6:00pm. $1.00 domestic\, import\, and rail. Thank you for reading this post\, don't forget to subscribe!
URL:https://genevalakelodge.com/event/happy-hour/2026-06-15/
LOCATION:The Thirsty Parrot\, W3731 Club House Drive\, Lake Geneva\, WI\, 53147\, United States
ATTACH;FMTTYPE=image/jpeg:https://genevalakelodge.com/wp-content/uploads/2024/11/09-14-2023_64DE0C9A-B386-4F85-9FB250DF22E2B954_8e89ab78-ed6d-49dd-a3ade1916e35933d-min.jpg
ORGANIZER;CN="The Thirsty Parrot":MAILTO:legendsfoodandspirits.info@gmail.com
END:VEVENT
BEGIN:VEVENT
DTSTART;TZID=UTC:20260616T140000
DTEND;TZID=UTC:20260616T180000
DTSTAMP:20260421T031942
CREATED:20241112T021024Z
LAST-MODIFIED:20241112T021024Z
UID:10002941-1781618400-1781632800@genevalakelodge.com
SUMMARY:Happy Hour
DESCRIPTION:Join us for Happy Hour\, Monday through Friday\, 2:00pm – 6:00pm. $1.00 domestic\, import\, and rail. Thank you for reading this post\, don't forget to subscribe!
URL:https://genevalakelodge.com/event/happy-hour/2026-06-16/
LOCATION:The Thirsty Parrot\, W3731 Club House Drive\, Lake Geneva\, WI\, 53147\, United States
ATTACH;FMTTYPE=image/jpeg:https://genevalakelodge.com/wp-content/uploads/2024/11/09-14-2023_64DE0C9A-B386-4F85-9FB250DF22E2B954_8e89ab78-ed6d-49dd-a3ade1916e35933d-min.jpg
ORGANIZER;CN="The Thirsty Parrot":MAILTO:legendsfoodandspirits.info@gmail.com
END:VEVENT
BEGIN:VEVENT
DTSTART;TZID=UTC:20260617T140000
DTEND;TZID=UTC:20260617T180000
DTSTAMP:20260421T031942
CREATED:20241112T021024Z
LAST-MODIFIED:20241112T021024Z
UID:10002942-1781704800-1781719200@genevalakelodge.com
SUMMARY:Happy Hour
DESCRIPTION:Join us for Happy Hour\, Monday through Friday\, 2:00pm – 6:00pm. $1.00 domestic\, import\, and rail. Thank you for reading this post\, don't forget to subscribe!
URL:https://genevalakelodge.com/event/happy-hour/2026-06-17/
LOCATION:The Thirsty Parrot\, W3731 Club House Drive\, Lake Geneva\, WI\, 53147\, United States
ATTACH;FMTTYPE=image/jpeg:https://genevalakelodge.com/wp-content/uploads/2024/11/09-14-2023_64DE0C9A-B386-4F85-9FB250DF22E2B954_8e89ab78-ed6d-49dd-a3ade1916e35933d-min.jpg
ORGANIZER;CN="The Thirsty Parrot":MAILTO:legendsfoodandspirits.info@gmail.com
END:VEVENT
END:VCALENDAR